BEGIN:VCALENDAR
PRODID:-//kirchenweb.ch gmbh//veranstaltungsausgabe v2.0//DE
VERSION:2.0
METHOD:PUBLISH
BEGIN:VEVENT
DTSTART:20260429T094500Z
DTEND:20260429T104500Z
LOCATION:Pfarrhaussaal In der Rüti\, \,
TRANSP:OPAQUE
SEQUENCE:0
UID:29019-veranstaltung@ref-gl.ch
DTSTAMP:20260205T095701Z
DESCRIPTION:Kontakt: lesley.rodrigues@ref-gl.ch\n\nWeitere Infos:
  https://www.ref-gl.ch/veranstaltung/29019
SUMMARY:Mittagstisch
PRIORITY:5
X-MICROSOFT-CDO-IMPORTANCE:1
CLASS:PUBLIC
END:VEVENT
END:VCALENDAR
