BEGIN:VCALENDAR
PRODID:-//kirchenweb.ch gmbh//veranstaltungsausgabe v2.0//DE
VERSION:2.0
METHOD:PUBLISH
BEGIN:VEVENT
DTSTART:20260506T080000Z
DTEND:20260506T090000Z
LOCATION:Alters- und Pflegeheim Feld\, \,
TRANSP:OPAQUE
SEQUENCE:0
UID:29277-veranstaltung@ref-gl.ch
DTSTAMP:20260312T102047Z
DESCRIPTION:Kontakt: lesley.rodrigues@ref-gl.ch\n\nWeitere Infos:
  https://www.ref-gl.ch/veranstaltung/29277
SUMMARY:Andacht
PRIORITY:5
X-MICROSOFT-CDO-IMPORTANCE:1
CLASS:PUBLIC
END:VEVENT
END:VCALENDAR
