BEGIN:VCALENDAR
PRODID:-//kirchenweb.ch gmbh//veranstaltungsausgabe v2.0//DE
VERSION:2.0
METHOD:PUBLISH
BEGIN:VEVENT
DTSTART:20260509T160000Z
DTEND:20260509T170000Z
LOCATION:Dämmli Niederurnen\, \,
TRANSP:OPAQUE
SEQUENCE:0
UID:29279-veranstaltung@ref-gl.ch
DTSTAMP:20260312T102250Z
DESCRIPTION:Kontakt: lesley.rodrigues@ref-gl.ch\n\nWeitere Infos:
  https://www.ref-gl.ch/veranstaltung/29279
SUMMARY:Dämmligottesdienst
PRIORITY:5
X-MICROSOFT-CDO-IMPORTANCE:1
CLASS:PUBLIC
END:VEVENT
END:VCALENDAR
