BEGIN:VCALENDAR
PRODID:-//kirchenweb.ch gmbh//veranstaltungsausgabe v2.0//DE
VERSION:2.0
METHOD:PUBLISH
BEGIN:VEVENT
DTSTART:20260514T073000Z
DTEND:20260514T083000Z
LOCATION:Evang.-Ref. Kirche Niederurnen\, \,
TRANSP:OPAQUE
SEQUENCE:0
UID:29302-veranstaltung@ref-gl.ch
DTSTAMP:20260318T095457Z
DESCRIPTION:Auffahrt - Gottesdienst mit Abendmahl; Musik: Kantorei
  Niederurnen\n\nKontakt: lesley.rodrigues@ref-gl.ch\n\nWeitere Infos:
  https://www.ref-gl.ch/veranstaltung/29302
SUMMARY:Auffahrt - Gottesdienst
PRIORITY:5
X-MICROSOFT-CDO-IMPORTANCE:1
CLASS:PUBLIC
END:VEVENT
END:VCALENDAR
