BEGIN:VCALENDAR
PRODID:-//kirchenweb.ch gmbh//veranstaltungsausgabe v2.0//DE
VERSION:2.0
METHOD:PUBLISH
BEGIN:VEVENT
DTSTART:20260524T170000Z
DTEND:20260524T180000Z
LOCATION:Kapelle Oberurnen\, \,
TRANSP:OPAQUE
SEQUENCE:0
UID:29307-veranstaltung@ref-gl.ch
DTSTAMP:20260318T095224Z
DESCRIPTION:Pfingstgottesdienst mit Abendmahl\, Musik: Eva Koll;
  Blockflöte\n\nKontakt: lesley.rodrigues@ref-gl.ch\n\nWeitere Infos:
  https://www.ref-gl.ch/veranstaltung/29307
SUMMARY:Pfingstgottesdienst
PRIORITY:5
X-MICROSOFT-CDO-IMPORTANCE:1
CLASS:PUBLIC
END:VEVENT
END:VCALENDAR
