BEGIN:VCALENDAR
PRODID:-//kirchenweb.ch gmbh//veranstaltungsausgabe v2.0//DE
VERSION:2.0
METHOD:PUBLISH
BEGIN:VEVENT
DTSTART:20260614T150000Z
DTEND:20260614T180000Z
LOCATION:Evang.-Ref. Kirche Niederurnen\, \,
TRANSP:OPAQUE
SEQUENCE:0
UID:29314-veranstaltung@ref-gl.ch
DTSTAMP:20260318T100149Z
DESCRIPTION:Verabschiedungs-Gottesdienst vom Pfarrehepaar Martina und
  René Hausheer-Kaufmann\n\nKontakt: lesley.rodrigues@ref-gl.ch\n\nWeitere
  Infos: https://www.ref-gl.ch/veranstaltung/29314
SUMMARY:Verabschiedungs - Gottesdienst
PRIORITY:5
X-MICROSOFT-CDO-IMPORTANCE:1
CLASS:PUBLIC
END:VEVENT
END:VCALENDAR
